BEGIN:VCALENDAR
VERSION:2.0
PRODID:-//St. Andrews Presbyterian Church - Parry Sound - ECPv6.15.20//NONSGML v1.0//EN
CALSCALE:GREGORIAN
METHOD:PUBLISH
X-ORIGINAL-URL:https://standrewsps.ca
X-WR-CALDESC:Events for St. Andrews Presbyterian Church - Parry Sound
REFRESH-INTERVAL;VALUE=DURATION:PT1H
X-Robots-Tag:noindex
X-PUBLISHED-TTL:PT1H
BEGIN:VTIMEZONE
TZID:UTC
BEGIN:STANDARD
TZOFFSETFROM:+0000
TZOFFSETTO:+0000
TZNAME:UTC
DTSTART:20250101T000000
END:STANDARD
END:VTIMEZONE
BEGIN:VEVENT
DTSTART;TZID=UTC:20260215T103000
DTEND;TZID=UTC:20260215T233000
DTSTAMP:20260423T230346
CREATED:20260129T183802Z
LAST-MODIFIED:20260129T190123Z
UID:40891-1771151400-1771198200@standrewsps.ca
SUMMARY:Sunday Worship Service for February 15\, 2026
DESCRIPTION:Join us each Sunday morning for a meaningful and uplifting time of worship at St. Andrew’s Presbyterian Church in Parry Sound\, ON. Our service begins at 10:30 a.m. and offers a beautiful blend of tradition\, inspiration\, and community. \nWorship is enriched by beloved traditional hymns\, joyfully sung and accompanied by our magnificent pipe organ\, whose golden pipes fill the sanctuary with a rich and reverent sound. Each service includes prayer\, praise and worship music\, and an informative\, thoughtful\, and encouraging sermon designed to inspire faith\, reflection\, and hope for the week ahead. \nSt. Andrew’s is a welcoming and inclusive church — all are truly welcome here. You will always leave with a spoken blessing and a renewed sense of peace and connection. \nFollowing the service\, everyone is warmly invited to stay for coffee\, refreshments\, and fellowship — a relaxed and friendly time to connect and build community. \nWorship is led by Pastor Melissa Horkins\, with music led by Pastor Len Ballantine\, Director of Music. \nIf you are unable to attend in person\, our services are live streamed on YouTube\, allowing you to join us from wherever you are.
URL:https://standrewsps.ca/event/weekly-prayer-gathering-feb-15-2026/
LOCATION:St. Andrew’s Presbyterian Church\, Parry Sound\, 58 Seguin Street\, Parry Sound\, ON\, P2A 1B6\, Canada
CATEGORIES:Sunday Service
END:VEVENT
BEGIN:VEVENT
DTSTART;TZID=UTC:20260208T103000
DTEND;TZID=UTC:20260208T233000
DTSTAMP:20260423T230346
CREATED:20260125T034227Z
LAST-MODIFIED:20260125T035912Z
UID:40869-1770546600-1770593400@standrewsps.ca
SUMMARY:Sunday Worship Service for February 8\, 2026
DESCRIPTION:Join us each Sunday morning for a meaningful and uplifting time of worship at St. Andrew’s Presbyterian Church in Parry Sound\, ON. Our service begins at 10:30 a.m. and offers a beautiful blend of tradition\, inspiration\, and community. \nWorship is enriched by beloved traditional hymns\, joyfully sung and accompanied by our magnificent pipe organ\, whose golden pipes fill the sanctuary with a rich and reverent sound. Each service includes prayer\, praise and worship music\, and an informative\, thoughtful\, and encouraging sermon designed to inspire faith\, reflection\, and hope for the week ahead. \nSt. Andrew’s is a welcoming and inclusive church — all are truly welcome here. You will always leave with a spoken blessing and a renewed sense of peace and connection. \nFollowing the service\, everyone is warmly invited to stay for coffee\, refreshments\, and fellowship — a relaxed and friendly time to connect and build community. \nWorship is led by Pastor Melissa Horkins\, with music led by Pastor Len Ballantine\, Director of Music. \nIf you are unable to attend in person\, our services are live streamed on YouTube\, allowing you to join us from wherever you are.
URL:https://standrewsps.ca/event/weekly-prayer-gathering-2-2-2-2/
LOCATION:St. Andrew’s Presbyterian Church\, Parry Sound\, 58 Seguin Street\, Parry Sound\, ON\, P2A 1B6\, Canada
CATEGORIES:Sunday Service
END:VEVENT
BEGIN:VEVENT
DTSTART;TZID=UTC:20260201T103000
DTEND;TZID=UTC:20260201T233000
DTSTAMP:20260423T230346
CREATED:20260125T042653Z
LAST-MODIFIED:20260125T042750Z
UID:40885-1769941800-1769988600@standrewsps.ca
SUMMARY:Sunday Worship Service for February 1\, 2026
DESCRIPTION:Join us each Sunday morning for a meaningful and uplifting time of worship at St. Andrew’s Presbyterian Church in Parry Sound\, ON. Our service begins at 10:30 a.m. and offers a beautiful blend of tradition\, inspiration\, and community. \nWorship is enriched by beloved traditional hymns\, joyfully sung and accompanied by our magnificent pipe organ\, whose golden pipes fill the sanctuary with a rich and reverent sound. Each service includes prayer\, praise and worship music\, and an informative\, thoughtful\, and encouraging sermon designed to inspire faith\, reflection\, and hope for the week ahead. \nSt. Andrew’s is a welcoming and inclusive church — all are truly welcome here. You will always leave with a spoken blessing and a renewed sense of peace and connection. \nFollowing the service\, everyone is warmly invited to stay for coffee\, refreshments\, and fellowship — a relaxed and friendly time to connect and build community. \nWorship is led by Pastor Melissa Horkins\, with music led by Pastor Len Ballantine\, Director of Music. \nIf you are unable to attend in person\, our services are live streamed on YouTube\, allowing you to join us from wherever you are.
URL:https://standrewsps.ca/event/weekly-prayer-gathering-2-2-2-2-2/
LOCATION:St. Andrew’s Presbyterian Church\, Parry Sound\, 58 Seguin Street\, Parry Sound\, ON\, P2A 1B6\, Canada
CATEGORIES:Sunday Service
END:VEVENT
BEGIN:VEVENT
DTSTART;TZID=UTC:20260125T103000
DTEND;TZID=UTC:20260125T233000
DTSTAMP:20260423T230346
CREATED:20260122T062306Z
LAST-MODIFIED:20260125T035902Z
UID:40636-1769337000-1769383800@standrewsps.ca
SUMMARY:Sunday Worship Service for January 25\, 2026
DESCRIPTION:Join us each Sunday morning for a meaningful and uplifting time of worship at St. Andrew’s Presbyterian Church in Parry Sound\, ON. Our service begins at 10:30 a.m. and offers a beautiful blend of tradition\, inspiration\, and community. \nWorship is enriched by beloved traditional hymns\, joyfully sung and accompanied by our magnificent pipe organ\, whose golden pipes fill the sanctuary with a rich and reverent sound. Each service includes prayer\, praise and worship music\, and an informative\, thoughtful\, and encouraging sermon designed to inspire faith\, reflection\, and hope for the week ahead. \nSt. Andrew’s is a welcoming and inclusive church — all are truly welcome here. You will always leave with a spoken blessing and a renewed sense of peace and connection. \nFollowing the service\, everyone is warmly invited to stay for coffee\, refreshments\, and fellowship — a relaxed and friendly time to connect and build community. \nWorship is led by Pastor Melissa Horkins\, with music led by Pastor Len Ballantine\, Director of Music. \nIf you are unable to attend in person\, our services are live streamed on YouTube\, allowing you to join us from wherever you are.
URL:https://standrewsps.ca/event/weekly-prayer-gathering-252026/
LOCATION:St. Andrew’s Presbyterian Church\, Parry Sound\, 58 Seguin Street\, Parry Sound\, ON\, P2A 1B6\, Canada
CATEGORIES:Sunday Service
END:VEVENT
BEGIN:VEVENT
DTSTART;TZID=UTC:20260118T103000
DTEND;TZID=UTC:20260118T233000
DTSTAMP:20260423T230346
CREATED:20260111T053732Z
LAST-MODIFIED:20260122T062500Z
UID:40001-1768732200-1768779000@standrewsps.ca
SUMMARY:Sunday Worship Service for January 18\, 2026
DESCRIPTION:Join us each Sunday morning for a meaningful and uplifting time of worship at St. Andrew’s Presbyterian Church in Parry Sound\, ON. Our service begins at 10:30 a.m. and offers a beautiful blend of tradition\, inspiration\, and community. \nWorship is enriched by beloved traditional hymns\, joyfully sung and accompanied by our magnificent pipe organ\, whose golden pipes fill the sanctuary with a rich and reverent sound. Each service includes prayer\, praise and worship music\, and an informative\, thoughtful\, and encouraging sermon designed to inspire faith\, reflection\, and hope for the week ahead. \nSt. Andrew’s is a welcoming and inclusive church — all are truly welcome here. You will always leave with a spoken blessing and a renewed sense of peace and connection. \nFollowing the service\, everyone is warmly invited to stay for coffee\, refreshments\, and fellowship — a relaxed and friendly time to connect and build community. \nWorship is led by Pastor Melissa Horkins\, with music led by Pastor Len Ballantine\, Director of Music. \nIf you are unable to attend in person\, our services are live streamed on YouTube\, allowing you to join us from wherever you are.
URL:https://standrewsps.ca/event/weekly-prayer-gathering-2-2-2/
LOCATION:St. Andrew’s Presbyterian Church\, Parry Sound\, 58 Seguin Street\, Parry Sound\, ON\, P2A 1B6\, Canada
CATEGORIES:Sunday Service
END:VEVENT
END:VCALENDAR