BEGIN:VCALENDAR
VERSION:2.0
PRODID:-//St. Andrews Presbyterian Church - Parry Sound - ECPv6.15.20//NONSGML v1.0//EN
CALSCALE:GREGORIAN
METHOD:PUBLISH
X-ORIGINAL-URL:https://standrewsps.ca
X-WR-CALDESC:Events for St. Andrews Presbyterian Church - Parry Sound
REFRESH-INTERVAL;VALUE=DURATION:PT1H
X-Robots-Tag:noindex
X-PUBLISHED-TTL:PT1H
BEGIN:VTIMEZONE
TZID:UTC
BEGIN:STANDARD
TZOFFSETFROM:+0000
TZOFFSETTO:+0000
TZNAME:UTC
DTSTART:20250101T000000
END:STANDARD
END:VTIMEZONE
BEGIN:VEVENT
DTSTART;TZID=UTC:20260205T163000
DTEND;TZID=UTC:20260205T190000
DTSTAMP:20260424T004705
CREATED:20260125T034813Z
LAST-MODIFIED:20260125T035815Z
UID:40873-1770309000-1770318000@standrewsps.ca
SUMMARY:Intergenerational Mentorship & Dinner - Jan 29\, 2026
DESCRIPTION:
URL:https://standrewsps.ca/event/intergenerational-mentorship-dinner-2-2/
LOCATION:St. Andrew’s Presbyterian Church\, Parry Sound\, 58 Seguin Street\, Parry Sound\, ON\, P2A 1B6\, Canada
CATEGORIES:Community Events,Inter-Generational Programming,Youth
END:VEVENT
BEGIN:VEVENT
DTSTART;TZID=UTC:20260122T163000
DTEND;TZID=UTC:20260122T190000
DTSTAMP:20260424T004705
CREATED:20260122T063211Z
LAST-MODIFIED:20260125T035750Z
UID:40642-1769099400-1769108400@standrewsps.ca
SUMMARY:Intergenerational Mentorship & Dinner - Jan 22\, 2026
DESCRIPTION:
URL:https://standrewsps.ca/event/intergenerational-mentorship-dinner/
LOCATION:St. Andrew’s Presbyterian Church\, Parry Sound\, 58 Seguin Street\, Parry Sound\, ON\, P2A 1B6\, Canada
CATEGORIES:Community Events,Inter-Generational Programming,Youth
END:VEVENT
END:VCALENDAR